BEGIN:VCALENDAR
VERSION:2.0
PRODID:-//Sony Pictures//release-reminder//EN
BEGIN:VEVENT
UID:3kdk@http://www.babydrivermovie.co.uk
SEQUENCE:0
DTSTAMP:20170628T000000Z
DTSTART;VALUE=DATE:20170628
X-MICROSOFT-CDO-ALLDAYEVENT:TRUE
X-MICROSOFT-MSNCALENDAR-ALLDAYEVENT:TRUE
SUMMARY:Baby Driver: Get Tickets
DESCRIPTION:Buy tickets now for Baby Driver at
URL;VALUE=URI:http://www.babydrivermovie.co.uk
END:VEVENT
END:VCALENDAR